BEGIN:VCALENDAR
VERSION:2.0
PRODID:-//Susan Stradiotto - ECPv6.15.20//NONSGML v1.0//EN
CALSCALE:GREGORIAN
METHOD:PUBLISH
X-WR-CALNAME:Susan Stradiotto
X-ORIGINAL-URL:https://susanstradiotto.com
X-WR-CALDESC:Events for Susan Stradiotto
REFRESH-INTERVAL;VALUE=DURATION:PT1H
X-Robots-Tag:noindex
X-PUBLISHED-TTL:PT1H
BEGIN:VTIMEZONE
TZID:America/Chicago
BEGIN:DAYLIGHT
TZOFFSETFROM:-0600
TZOFFSETTO:-0500
TZNAME:CDT
DTSTART:20180311T080000
END:DAYLIGHT
BEGIN:STANDARD
TZOFFSETFROM:-0500
TZOFFSETTO:-0600
TZNAME:CST
DTSTART:20181104T070000
END:STANDARD
BEGIN:DAYLIGHT
TZOFFSETFROM:-0600
TZOFFSETTO:-0500
TZNAME:CDT
DTSTART:20190310T080000
END:DAYLIGHT
BEGIN:STANDARD
TZOFFSETFROM:-0500
TZOFFSETTO:-0600
TZNAME:CST
DTSTART:20191103T070000
END:STANDARD
BEGIN:DAYLIGHT
TZOFFSETFROM:-0600
TZOFFSETTO:-0500
TZNAME:CDT
DTSTART:20200308T080000
END:DAYLIGHT
BEGIN:STANDARD
TZOFFSETFROM:-0500
TZOFFSETTO:-0600
TZNAME:CST
DTSTART:20201101T070000
END:STANDARD
END:VTIMEZONE
BEGIN:VTIMEZONE
TZID:UTC
BEGIN:STANDARD
TZOFFSETFROM:+0000
TZOFFSETTO:+0000
TZNAME:UTC
DTSTART:20170101T000000
END:STANDARD
END:VTIMEZONE
BEGIN:VEVENT
DTSTART;TZID=America/Chicago:20191005T100000
DTEND;TZID=America/Chicago:20191005T160000
DTSTAMP:20260424T044357
CREATED:20190307T092354Z
LAST-MODIFIED:20190819T183108Z
UID:1173-1570269600-1570291200@susanstradiotto.com
SUMMARY:Book Signing:  Deep Valley Book Festival
DESCRIPTION:Susan will be at a book festival in Mankato all day on Saturday\, October 5\, 2019\, @ the Loose Moose Saloon & Conference Center. \nCheck out the official website for the Deep Valley Book Festival here: https://www.deepvalleybookfestival.com \nCome down and discuss anything worldbuilding. Purchase a book (or the whole series) or bring one in for signing! I thoroughly love to talk about anything story-related. If you peruse my blog\, you’ll see that worldbuilding is one of my special fancies. Start talking about social science or social stratification\, and I’ll simply start drooling\, then babbling. \nThe feared question: “What is your book about?”\nThis will be Susan’s third author appearance and signing. Appearing in public and talking to readers is a really fun\, yet daunting experience. It’s easy for an author to sit at a keyboard and pour out a story\, it’s a bit more challenging to have that story torn apart by critiquers or editors\, but when someone asks the author what his or her book is about\, there’s an entirely different reaction. It usually goes something like this: \nReader: “So\, Author\, tell me about your book.” \nAuthor: “Uh…It’s about…um…well…there’s this girl…” \nReader: Raises an eyebrow\, smiles\, nods\, and pretends to read the back of the book for another minute. \nI and other authors have begun practicing the answer to this question. The goal is to be honest and paint a picture of the novel that entices the reader. You don’t want to say exactly what’s on the back cover\, but you want to give the reader (or potential reader) a sense of the fantastic journey that awaits as she opens the pages and sits down to dive into another world. \nThat being said\, my book is about how a modern woman would deal with being introduced into a fantastical situation. It’s how a natural cynic responds to the supposed impossibilities that surround an alternate dimension. I have many friends who claim to be non-fantasy readers because they simply cannot relate to the characters in fantasy. This was my endeavor to provide a relatable character in a fantasy world. \nWhy we (authors) go to these events…\nBeing very honest\, book festivals aren’t a money-making adventure for an author. It is the networking and connecting with readers and other story-lovers that makes these events worthwhile. So\, don’t be afraid of the scary authors behind the tables trying to sell you a book. They’re really just back there wanting to share a story that means a bunch to them with the world. \nI look forward to meeting and making new friends and hopefully fans! \nShare this:\n				Share on Facebook (Opens in new window)\n				Facebook\n			\n				Share on X (Opens in new window)\n				X\n			\n				Share on Tumblr (Opens in new window)\n				Tumblr\n			\n				Share on Pinterest (Opens in new window)\n				Pinterest\n			\n				Share on LinkedIn (Opens in new window)\n				LinkedIn\n			Like this:Like Loading...
URL:https://susanstradiotto.com/event/deep-valley-book-festival/
LOCATION:Loose Moose Saloon & Conference Center\, 119 So. Front St.\, Mankato\, MN\, 56001\, United States
CATEGORIES:Book Festival
ATTACH;FMTTYPE=image/jpeg:https://susanstradiotto.com/wp-content/uploads/2019/03/Flyer-WritersFest-1.jpg
END:VEVENT
BEGIN:VEVENT
DTSTART;TZID=UTC:20190323T090000
DTEND;TZID=UTC:20190323T163000
DTSTAMP:20260424T044357
CREATED:20181215T013404Z
LAST-MODIFIED:20181215T013741Z
UID:492-1553331600-1553358600@susanstradiotto.com
SUMMARY:3rd Annual Writers Festival and Book Fair
DESCRIPTION:I will have a table at the Rosemount Writer’s Festival and Book Fair this year. Hopefully\, sharing with Annabelle Lewis. Please stop by and check out the latest in both of our book series. \nThe Caeteran Tales by Susan Stradiotto \nThe Carrows Family Chronicles by Annabelle Lewis \nShare this:\n				Share on Facebook (Opens in new window)\n				Facebook\n			\n				Share on X (Opens in new window)\n				X\n			\n				Share on Tumblr (Opens in new window)\n				Tumblr\n			\n				Share on Pinterest (Opens in new window)\n				Pinterest\n			\n				Share on LinkedIn (Opens in new window)\n				LinkedIn\n			Like this:Like Loading...
URL:https://susanstradiotto.com/event/3rd-annual-writers-festival-and-book-fair/
LOCATION:Steeple Center • 14375 S. Robert Trail • Rosemount\, MN\, 14375 S. Robert Trail\, Rosemount\, MN\, United States
ATTACH;FMTTYPE=image/jpeg:https://susanstradiotto.com/wp-content/uploads/2018/12/My-Post-4.jpg
END:VEVENT
BEGIN:VEVENT
DTSTART;TZID=America/Chicago:20190309T100000
DTEND;TZID=America/Chicago:20190309T120000
DTSTAMP:20260424T044357
CREATED:20190307T091400Z
LAST-MODIFIED:20190307T092735Z
UID:1171-1552125600-1552132800@susanstradiotto.com
SUMMARY:Marketing for Indie Authors & Publishers
DESCRIPTION:Tentative agenda for this meetup is to have a Publicist as a guest speaker. More information to follow. \nShare this:\n				Share on Facebook (Opens in new window)\n				Facebook\n			\n				Share on X (Opens in new window)\n				X\n			\n				Share on Tumblr (Opens in new window)\n				Tumblr\n			\n				Share on Pinterest (Opens in new window)\n				Pinterest\n			\n				Share on LinkedIn (Opens in new window)\n				LinkedIn\n			Like this:Like Loading...
URL:https://susanstradiotto.com/event/marketing-for-indie-authors-publishers/
LOCATION:Chanhassen Library\, 7711 Kerber Blvd\, Chanhassen\, MN 55317\, Chanhassen\, MN\, US
CATEGORIES:Marketing
ATTACH;FMTTYPE=image/jpeg:https://susanstradiotto.com/wp-content/uploads/2018/12/My-Post-10-1.jpg
END:VEVENT
BEGIN:VEVENT
DTSTART;TZID=UTC:20190112T100000
DTEND;TZID=UTC:20190112T130000
DTSTAMP:20260424T044357
CREATED:20181209T042519Z
LAST-MODIFIED:20181209T042519Z
UID:424-1547287200-1547298000@susanstradiotto.com
SUMMARY:Marketing for Indie Publishers
DESCRIPTION:Join our group focused on Independent Author marketing and promotion. \nThis is an inaugural meeting. We will discuss the intent of the group\, collect some feedback\, and discuss some topics selected by the organizers. \nShare this:\n				Share on Facebook (Opens in new window)\n				Facebook\n			\n				Share on X (Opens in new window)\n				X\n			\n				Share on Tumblr (Opens in new window)\n				Tumblr\n			\n				Share on Pinterest (Opens in new window)\n				Pinterest\n			\n				Share on LinkedIn (Opens in new window)\n				LinkedIn\n			Like this:Like Loading...
URL:https://susanstradiotto.com/event/marketing-for-indie-publishers/
LOCATION:Chanhassen Library\, 7711 Kerber Blvd\, Chanhassen\, MN\, 55317
END:VEVENT
BEGIN:VEVENT
DTSTART;VALUE=DATE:20181019
DTEND;VALUE=DATE:20181022
DTSTAMP:20260424T044357
CREATED:20180720T005510Z
LAST-MODIFIED:20180720T005510Z
UID:281-1539907200-1540166399@susanstradiotto.com
SUMMARY:ValleyCon 44
DESCRIPTION:My incredibly talented artist son and I will be at ValleyCon in Fargo\, OCT. 19-21\, 2018. He has 2 comic books published and the second edition of Burst Volume 1 will be out just in time for the Con. The first in my fantasy/sci-fi series\, The Caeteran Tales will also be available for purchase and signings! We hope to meet many\, many new followers of all things fantasy/sci-fi/comic related. \nShare this:\n				Share on Facebook (Opens in new window)\n				Facebook\n			\n				Share on X (Opens in new window)\n				X\n			\n				Share on Tumblr (Opens in new window)\n				Tumblr\n			\n				Share on Pinterest (Opens in new window)\n				Pinterest\n			\n				Share on LinkedIn (Opens in new window)\n				LinkedIn\n			Like this:Like Loading...
URL:https://susanstradiotto.com/event/valleycon-44/
LOCATION:Ramada Fargo – Fargo\, ND
ATTACH;FMTTYPE=image/png:https://susanstradiotto.com/wp-content/uploads/2018/07/BurstnCat.png
END:VEVENT
BEGIN:VEVENT
DTSTART;VALUE=DATE:20180801
DTEND;VALUE=DATE:20180802
DTSTAMP:20260424T044357
CREATED:20180627T064905Z
LAST-MODIFIED:20180629T183035Z
UID:190-1533081600-1533167999@susanstradiotto.com
SUMMARY:Open Season Audiobook Launch
DESCRIPTION:Share this:\n				Share on Facebook (Opens in new window)\n				Facebook\n			\n				Share on X (Opens in new window)\n				X\n			\n				Share on Tumblr (Opens in new window)\n				Tumblr\n			\n				Share on Pinterest (Opens in new window)\n				Pinterest\n			\n				Share on LinkedIn (Opens in new window)\n				LinkedIn\n			Like this:Like Loading...
URL:https://susanstradiotto.com/event/open-season-audiobook-launch/
LOCATION:MN
END:VEVENT
BEGIN:VEVENT
DTSTART;VALUE=DATE:20180719
DTEND;VALUE=DATE:20180720
DTSTAMP:20260424T044357
CREATED:20180625T222724Z
LAST-MODIFIED:20180625T222927Z
UID:157-1531958400-1532044799@susanstradiotto.com
SUMMARY:Open Season Release Date!
DESCRIPTION:The first of The Caeteran Tales is available for purchase TODAY!  If you have preordered your copy\, it should be available for your eReader or in your mailbox. \nHappy reading to all\, and leave me some words on: \nGoodreads \nAmazon \nFacebook \n  \nShare this:\n				Share on Facebook (Opens in new window)\n				Facebook\n			\n				Share on X (Opens in new window)\n				X\n			\n				Share on Tumblr (Opens in new window)\n				Tumblr\n			\n				Share on Pinterest (Opens in new window)\n				Pinterest\n			\n				Share on LinkedIn (Opens in new window)\n				LinkedIn\n			Like this:Like Loading...
URL:https://susanstradiotto.com/event/open-season-release-date/
LOCATION:MN
END:VEVENT
END:VCALENDAR